BEGIN:VCALENDAR
VERSION:2.0
PRODID:-//Astra Communications - ECPv6.15.11//NONSGML v1.0//EN
CALSCALE:GREGORIAN
METHOD:PUBLISH
X-ORIGINAL-URL:https://astracomm.com
X-WR-CALDESC:Events for Astra Communications
REFRESH-INTERVAL;VALUE=DURATION:PT1H
X-Robots-Tag:noindex
X-PUBLISHED-TTL:PT1H
BEGIN:VTIMEZONE
TZID:UTC
BEGIN:STANDARD
TZOFFSETFROM:+0000
TZOFFSETTO:+0000
TZNAME:UTC
DTSTART:20250101T000000
END:STANDARD
END:VTIMEZONE
BEGIN:VEVENT
DTSTART;TZID=UTC:20260106T080000
DTEND;TZID=UTC:20260109T170000
DTSTAMP:20260419T173412
CREATED:20251126T145718Z
LAST-MODIFIED:20251126T150511Z
UID:4891-1767686400-1767978000@astracomm.com
SUMMARY:CES
DESCRIPTION:The world’s most powerful tech event is your place to experience the innovations transforming how we live. \n\n\n\n\nThis is where global brands get business done\, meet new partners and where the industry’s sharpest minds take the stage to unveil their latest releases and boldest breakthroughs. Get a real feel for the latest solutions to the world’s biggest challenges with immersive activations and demos. Engage with the greatest minds and most impactful brands of our time.
URL:https://astracomm.com/event/ces/
LOCATION:Las Vegas Convention Center\, 3150 Paradise Road\, Las Vegas\, Nevada\, 89109\, United States
END:VEVENT
BEGIN:VEVENT
DTSTART;TZID=UTC:20260111T080000
DTEND;TZID=UTC:20260113T170000
DTSTAMP:20260419T173412
CREATED:20251107T081252Z
LAST-MODIFIED:20251126T143604Z
UID:4619-1768118400-1768323600@astracomm.com
SUMMARY:NRF 2026
DESCRIPTION:The simple buyer and seller relationship is over. But untapped potential for retailers? That’s just beginning! A diverse and growing global value chain means consumer behavior is constantly changing from one moment to the next. Are you ready for The Next Now? \nPriceless connections. Practical education. Futuristic solutions. Everything you need now — and next — is right here at NRF 2026: Retail’s Big Show.
URL:https://astracomm.com/event/nrf-2026/
LOCATION:Jacob K. Javits Convention Center\, NYC\, 429 11th Ave\, New York\, New York\, 10001\, United States
END:VEVENT
BEGIN:VEVENT
DTSTART;TZID=UTC:20260119T080000
DTEND;TZID=UTC:20260122T170000
DTSTAMP:20260419T173412
CREATED:20251106T165724Z
LAST-MODIFIED:20251126T144415Z
UID:4604-1768809600-1769101200@astracomm.com
SUMMARY:World of Concrete
DESCRIPTION:World of Concrete is the industry’s ONLY annual international event dedicated to commercial concrete and masonry construction industries. Featuring indoor and outdoor exhibits with the industry’s leading suppliers showcasing innovative products and technologies\, exciting demonstrations and competitions and world-class education program.
URL:https://astracomm.com/event/world-of-concrete/
LOCATION:Las Vegas Convention Center\, 3150 Paradise Road\, Las Vegas\, Nevada\, 89109\, United States
END:VEVENT
END:VCALENDAR