BEGIN:VCALENDAR
VERSION:2.0
PRODID:-//Astra Communications - ECPv6.15.11//NONSGML v1.0//EN
CALSCALE:GREGORIAN
METHOD:PUBLISH
X-ORIGINAL-URL:https://astracomm.com
X-WR-CALDESC:Events for Astra Communications
REFRESH-INTERVAL;VALUE=DURATION:PT1H
X-Robots-Tag:noindex
X-PUBLISHED-TTL:PT1H
BEGIN:VTIMEZONE
TZID:UTC
BEGIN:STANDARD
TZOFFSETFROM:+0000
TZOFFSETTO:+0000
TZNAME:UTC
DTSTART:20250101T000000
END:STANDARD
END:VTIMEZONE
BEGIN:VEVENT
DTSTART;TZID=UTC:20260628T080000
DTEND;TZID=UTC:20260702T170000
DTSTAMP:20260419T173013
CREATED:20251126T150322Z
LAST-MODIFIED:20251126T150443Z
UID:4894-1782633600-1783011600@astracomm.com
SUMMARY:International Bowl Expo
DESCRIPTION:Bowl Expo is the bowling industry’s premier annual convention and trade show for bowling center owners/operators\, senior management\, and employees\, which features exhibits with a wide array of products & services.
URL:https://astracomm.com/event/international-bowl-expo/
LOCATION:Gaylord Opryland Resort & Convention Center\, 2800 Opryland Drive\, Nashville\, Tennessee\, 37214\, United States
END:VEVENT
END:VCALENDAR